BEGIN:VCALENDAR
VERSION:2.0
PRODID:-//Gulf Coast Clays - ECPv6.5.1.3//NONSGML v1.0//EN
CALSCALE:GREGORIAN
METHOD:PUBLISH
X-WR-CALNAME:Gulf Coast Clays
X-ORIGINAL-URL:https://gulfcoastclays.com
X-WR-CALDESC:Events for Gulf Coast Clays
REFRESH-INTERVAL;VALUE=DURATION:PT1H
X-Robots-Tag:noindex
X-PUBLISHED-TTL:PT1H
BEGIN:VTIMEZONE
TZID:America/New_York
BEGIN:DAYLIGHT
TZOFFSETFROM:-0500
TZOFFSETTO:-0400
TZNAME:EDT
DTSTART:20240310T070000
END:DAYLIGHT
BEGIN:STANDARD
TZOFFSETFROM:-0400
TZOFFSETTO:-0500
TZNAME:EST
DTSTART:20241103T060000
END:STANDARD
END:VTIMEZONE
BEGIN:VEVENT
DTSTART;TZID=America/New_York:20241116T040000
DTEND;TZID=America/New_York:20241116T073000
DTSTAMP:20260421T103926
CREATED:20171129T181019Z
LAST-MODIFIED:20241205T004751Z
UID:380-1731729600-1731742200@gulfcoastclays.com
SUMMARY:Gulf Coast High School Lacrosse Shoot
DESCRIPTION:A 50-target sporting clays tournament for Gulf Coast High School Lacrosse team. The sporting clays course will be closed to the public in the morning. Please reach out to Teria at teria.clark@yahoo.com if you’d like to participate.
URL:https://gulfcoastclays.com/event/gchs-lacrosse-shoot/
LOCATION:Gulf Coast Clays\, 12425 Union Rd\, Naples\, FL\, 34114\, United States
CATEGORIES:Fundraiser
ATTACH;FMTTYPE=image/png:https://gulfcoastclays.com/wp-content/uploads/2017/11/GC-removebg-preview.png
END:VEVENT
BEGIN:VEVENT
DTSTART;TZID=America/New_York:20241110T040000
DTEND;TZID=America/New_York:20241110T083000
DTSTAMP:20260421T103926
CREATED:20171129T183058Z
LAST-MODIFIED:20241205T004758Z
UID:394-1731211200-1731227400@gulfcoastclays.com
SUMMARY:Turkey Trot NSCA Shoot
DESCRIPTION:The Sporting clays course will be closed to the pubic for the duration of the shoot. Details: \nShooting starts at 9AM\, the latest you may get on the course is 10:30AM. All scorecards must be turned in by 1:30PM. \nThe course will be Modified European rotation\, which means you may start at any stations but you may not skip or jump stations – you have to shoot in order. There are trappers on the stations. \nGolf carts are available on a first-come basis for $30. Please email Katya at katya@gulfcoastclays.com or call us at 239-642-8999 to reserve a cart. Carts must be paid in advance to reserve. Reservations canceled up to the day prior of the event will be refunded. \nEntry fees – $90 –  include lunch\, target fees and sales tax. \nPlease keep in mind the course will not be available to those shooting the event the day before.
URL:https://gulfcoastclays.com/event/turkey-trot-nsca-shoot/
LOCATION:Gulf Coast Clays\, 12425 Union Rd\, Naples\, FL\, 34114\, United States
CATEGORIES:NSCA tournament
ATTACH;FMTTYPE=image/jpeg:https://gulfcoastclays.com/wp-content/uploads/2017/11/53792586_1921341094660675_6874657372762013696_n.jpg
END:VEVENT
END:VCALENDAR