BEGIN:VCALENDAR
VERSION:2.0
PRODID:-//Gulf Coast Clays - ECPv6.5.1.3//NONSGML v1.0//EN
CALSCALE:GREGORIAN
METHOD:PUBLISH
X-WR-CALNAME:Gulf Coast Clays
X-ORIGINAL-URL:https://gulfcoastclays.com
X-WR-CALDESC:Events for Gulf Coast Clays
REFRESH-INTERVAL;VALUE=DURATION:PT1H
X-Robots-Tag:noindex
X-PUBLISHED-TTL:PT1H
BEGIN:VTIMEZONE
TZID:America/New_York
BEGIN:DAYLIGHT
TZOFFSETFROM:-0500
TZOFFSETTO:-0400
TZNAME:EDT
DTSTART:20240310T070000
END:DAYLIGHT
BEGIN:STANDARD
TZOFFSETFROM:-0400
TZOFFSETTO:-0500
TZNAME:EST
DTSTART:20241103T060000
END:STANDARD
BEGIN:DAYLIGHT
TZOFFSETFROM:-0500
TZOFFSETTO:-0400
TZNAME:EDT
DTSTART:20250309T070000
END:DAYLIGHT
BEGIN:STANDARD
TZOFFSETFROM:-0400
TZOFFSETTO:-0500
TZNAME:EST
DTSTART:20251102T060000
END:STANDARD
END:VTIMEZONE
BEGIN:VEVENT
DTSTART;TZID=America/New_York:20250223T043000
DTEND;TZID=America/New_York:20250223T083000
DTSTAMP:20260421T012507
CREATED:20250114T145138Z
LAST-MODIFIED:20250131T150036Z
UID:5743-1740285000-1740299400@gulfcoastclays.com
SUMMARY:No Name NSCA Shoot
DESCRIPTION:The Sporting clays course will be closed to the pubic for the duration of the shoot. Details: \nThe shoot is pre-squadded\, shooting starts at 9:30AM. All scorecards must be turned in by 1:30PM. We have trappers on the stations. Maximum amount of people allowed on a squad are 5. Please include your squadding requests when registering to ensure you get squadded with people you prefer to shoot with. \nGolf carts are available on a first-come basis for $35. Please email Katya at katya@gulfcoastclays.com or call us at 239-642-8999 to reserve a cart. Carts must be paid in advance to reserve. Reservations canceled up to the day prior of the event will be refunded. \nHOA\, RU and at least the top shooter in each class gets a target payout. \nEntry fees include lunch\, target fees and sales tax. Please keep in mind the course will not be available to those shooting the event the day before.
URL:https://gulfcoastclays.com/event/no-name-nsca-shoot/
LOCATION:Gulf Coast Clays\, 12425 Union Rd\, Naples\, FL\, 34114\, United States
CATEGORIES:NSCA tournament
ATTACH;FMTTYPE=image/jpeg:https://gulfcoastclays.com/wp-content/uploads/2024/09/about-instruction-botom-gallery-2.jpg
END:VEVENT
BEGIN:VEVENT
DTSTART;TZID=America/New_York:20250221T040000
DTEND;TZID=America/New_York:20250221T080000
DTSTAMP:20260421T012507
CREATED:20250110T164038Z
LAST-MODIFIED:20250123T180016Z
UID:5688-1740110400-1740124800@gulfcoastclays.com
SUMMARY:Collier Building Industry Association Tournament
DESCRIPTION:The sporting clays course will be closed in the morning for the event.
URL:https://gulfcoastclays.com/event/collier-building-association-tournament/
LOCATION:Gulf Coast Clays\, 12425 Union Rd\, Naples\, FL\, 34114\, United States
CATEGORIES:Fundraiser
ATTACH;FMTTYPE=image/jpeg:https://gulfcoastclays.com/wp-content/uploads/2024/09/corporate-and-private-events-bottom-possible-gallery.jpeg
END:VEVENT
BEGIN:VEVENT
DTSTART;TZID=America/New_York:20250208T040000
DTEND;TZID=America/New_York:20250208T110000
DTSTAMP:20260421T012507
CREATED:20250123T175840Z
LAST-MODIFIED:20250123T175840Z
UID:5778-1738987200-1739012400@gulfcoastclays.com
SUMMARY:Sporting Clays Course Closed All Day
DESCRIPTION:The sporting clays course will be closed all day for a private outing. Trap\, skeet\, and 5 stand  will be open as usual.
URL:https://gulfcoastclays.com/event/sporting-clays-course-closed-all-day/
LOCATION:FL
END:VEVENT
BEGIN:VEVENT
DTSTART;TZID=America/New_York:20250207T183000
DTEND;TZID=America/New_York:20250207T213000
DTSTAMP:20260421T012507
CREATED:20250112T153707Z
LAST-MODIFIED:20250114T145324Z
UID:5693-1738953000-1738963800@gulfcoastclays.com
SUMMARY:February-I BlackOut 5-stand
DESCRIPTION:Join us for our beginning-of-February BlackOut 5 stand shoot – 2 rounds of 5-stand (50 targets). Entry fee is $50\, $10 of which will go towards the cash prize. There are rotations of 10 spots each\, start times are 6:30PM\, 7:30PM\, and 8:30PM. Reservations required\, limited spots available! Please reach out to us or sign up on Score Chaser.\nIf you have never shot 5 stand\, we recommend you visit us prior to the event to learn how it works.\n\nDouble down on the fun and join us for the February Steak Night! Learn more here.
URL:https://gulfcoastclays.com/event/february-i-blackout-5-stand/
LOCATION:Gulf Coast Clays\, 12425 Union Rd\, Naples\, FL\, 34114\, United States
CATEGORIES:BlackOut 5 stand
ATTACH;FMTTYPE=image/png:https://gulfcoastclays.com/wp-content/uploads/2025/01/Blackout-5-stand.png
END:VEVENT
BEGIN:VEVENT
DTSTART;TZID=America/New_York:20250207T143000
DTEND;TZID=America/New_York:20250207T200000
DTSTAMP:20260421T012507
CREATED:20241227T161206Z
LAST-MODIFIED:20250129T144724Z
UID:5665-1738938600-1738958400@gulfcoastclays.com
SUMMARY:February Steak Night
DESCRIPTION:Join us for a fun-filled evening of target shooting and delicious dining at our Steak Night Event! Here’s what you can look forward to: \n\n100 Sporting Clays Targets\nGolf Cart Rental\nSteak Dinner (cooked just the way you like it!)\n\nAll for only $80 per person. \nEvent Schedule: \n\nShooting Starts: 2:30 PM\nMust Be on the Course by: 4:00 PM\nDinner Served: 4:15 PM to 7:30 PM.\n\nGuests Are Welcome!\nYou’re invited to bring a friend along. Non-shooting guests can join you for a delicious steak dinner for just $35. \nReservations and a $20 refundable deposit required\, please reserve by emailing Katya at katya@gulfcoastclays.com or calling the club at 239-642-8999. \nMake this a day full of fun and stay for BlackOut 5 stand! See more details here.
URL:https://gulfcoastclays.com/event/february-steak-night/
LOCATION:FL
ATTACH;FMTTYPE=image/png:https://gulfcoastclays.com/wp-content/uploads/2024/12/saturday-december-13th-230Pm-dark-3.png
END:VEVENT
BEGIN:VEVENT
DTSTART;TZID=America/New_York:20250202T093000
DTEND;TZID=America/New_York:20250202T133000
DTSTAMP:20260421T012507
CREATED:20241227T161115Z
LAST-MODIFIED:20250106T204227Z
UID:5662-1738488600-1738503000@gulfcoastclays.com
SUMMARY:February ATA tournament
DESCRIPTION:We will be offering 100 targets Singles\, Handicap\, and Doubles at $40 per event plus daily fees ($7). Please CALL US at 239-642-8999 to PRE-REGISTER.  It is possible to shoot without pre-registration\, but due to the limited number of fields you may end up having to wait over an hour.  Shooting starts at 9:30 am. Lunch is available from 11:30 am to 1:30 pm.
URL:https://gulfcoastclays.com/event/january-ata-tournament-2/
LOCATION:Gulf Coast Clays\, 12425 Union Rd\, Naples\, FL\, 34114\, United States
CATEGORIES:ATA tournament
ATTACH;FMTTYPE=image/jpeg:https://gulfcoastclays.com/wp-content/uploads/2024/09/tournaments-ata-top-banner.jpg
END:VEVENT
BEGIN:VEVENT
DTSTART;TZID=America/New_York:20250126T043000
DTEND;TZID=America/New_York:20250126T083000
DTSTAMP:20260421T012507
CREATED:20241227T144706Z
LAST-MODIFIED:20250106T204423Z
UID:5649-1737865800-1737880200@gulfcoastclays.com
SUMMARY:Mid Winter Warmup NSCA Shoot
DESCRIPTION:The Sporting clays course will be closed to the pubic for the duration of the shoot. Details: \nThis tournament is pre-squadded and shooting starts at 9:30AM. All scorecards must be turned in by 1:30PM. There are trappers on the stations. \nGolf carts are available on a first-come first-served basis for $35. Please email Katya at katya@gulfcoastclays.com or call us at 239-642-8999 to reserve a cart. Carts must be paid in advance to reserve. Reservations canceled up to the day prior of the event will be refunded. \nEntry fees – $90 –  include lunch\, target fees and sales tax. \nPlease keep in mind the course will not be available to those shooting the event the day before.
URL:https://gulfcoastclays.com/event/mid-winter-warmup-nsca-shoot/
LOCATION:Gulf Coast Clays\, 12425 Union Rd\, Naples\, FL\, 34114\, United States
CATEGORIES:NSCA tournament
ATTACH;FMTTYPE=image/jpeg:https://gulfcoastclays.com/wp-content/uploads/2024/09/about-instruction-botom-gallery-2.jpg
END:VEVENT
BEGIN:VEVENT
DTSTART;TZID=America/New_York:20250125T040000
DTEND;TZID=America/New_York:20250125T073000
DTSTAMP:20260421T012507
CREATED:20241227T150344Z
LAST-MODIFIED:20241227T150344Z
UID:5660-1737777600-1737790200@gulfcoastclays.com
SUMMARY:Bill Rose Memorial Shoot
DESCRIPTION:An annual fundraiser for Marco Island Academy\, in memory of Bill Rose. The sporting clays course will be closed to the public in the morning.
URL:https://gulfcoastclays.com/event/bill-rose-memorial-shoot/
LOCATION:Gulf Coast Clays\, 12425 Union Rd\, Naples\, FL\, 34114\, United States
CATEGORIES:Fundraiser
ATTACH;FMTTYPE=image/jpeg:https://gulfcoastclays.com/wp-content/uploads/2024/09/about-instruction-description.jpg
END:VEVENT
BEGIN:VEVENT
DTSTART;TZID=America/New_York:20250123T183000
DTEND;TZID=America/New_York:20250123T213000
DTSTAMP:20260421T012507
CREATED:20241227T145936Z
LAST-MODIFIED:20250114T145324Z
UID:5657-1737657000-1737667800@gulfcoastclays.com
SUMMARY:January-II BlackOut 5-stand
DESCRIPTION:Have you ever though what it would be like to shoot clays in the dark? Well\, now is the time to find out! Join us for our end-of-January BlackOut 5 stand shoot – 2 rounds of 5-stand (50 targets). Entry fee is $50\, $10 of which will go towards the cash prize. There are rotations of 10 spots each\, start times are 6:30PM\, 7:30PM\, and 8:30PM. Reservations required\, limited spots available!\nPlease note that even though Thursdays are members-only days at our club\, this tournament is open to the public.\nIf you have never shot 5 stand\, we recommend you visit us prior to the event to learn how it works.
URL:https://gulfcoastclays.com/event/january-ii-blackout-5-stand/
LOCATION:Gulf Coast Clays\, 12425 Union Rd\, Naples\, FL\, 34114\, United States
CATEGORIES:BlackOut 5 stand
ATTACH;FMTTYPE=image/png:https://gulfcoastclays.com/wp-content/uploads/2024/12/Blackoout-5-stand-5.png
END:VEVENT
BEGIN:VEVENT
DTSTART;TZID=America/New_York:20250119T083000
DTEND;TZID=America/New_York:20250119T110000
DTSTAMP:20260421T012507
CREATED:20250112T162127Z
LAST-MODIFIED:20250112T162127Z
UID:5705-1737275400-1737284400@gulfcoastclays.com
SUMMARY:Schedule Update - the sporting clays course closure.
DESCRIPTION:The sporting clays course will close at 1:30pm for a private outing. Trap\, skeet\, and 5 stand  will stay open until 4pm.
URL:https://gulfcoastclays.com/event/schedule-update-the-sporting-clays-course-closure/
LOCATION:FL
END:VEVENT
BEGIN:VEVENT
DTSTART;TZID=America/New_York:20250118T140000
DTEND;TZID=America/New_York:20250118T160000
DTSTAMP:20260421T012507
CREATED:20241227T145718Z
LAST-MODIFIED:20241227T145718Z
UID:5653-1737208800-1737216000@gulfcoastclays.com
SUMMARY:Celebration of Life of Bob DeHart
DESCRIPTION:The club will close at 2PM for the Celebration of Life of Robert DeHart. You are welcome to attend; please RSVP over the phone (239-642-8999) or by email (katya@gulfcoastclays.com).
URL:https://gulfcoastclays.com/event/celebration-of-life-of-bob-dehart/
LOCATION:Gulf Coast Clays\, 12425 Union Rd\, Naples\, FL\, 34114\, United States
ATTACH;FMTTYPE=image/png:https://gulfcoastclays.com/wp-content/uploads/2024/12/Grey-Photo-Celebration-of-Life-Invitation.png
END:VEVENT
BEGIN:VEVENT
DTSTART;TZID=America/New_York:20250113T190000
DTEND;TZID=America/New_York:20250114T185900
DTSTAMP:20260421T012507
CREATED:20241205T150748Z
LAST-MODIFIED:20241207T202550Z
UID:5629-1736794800-1736881140@gulfcoastclays.com
SUMMARY:Schedule Update - Now Open On Tuesdays to the public
DESCRIPTION:From today and until the end of March\, the club is open on Tuesdays\, from 9AM to 4PM.
URL:https://gulfcoastclays.com/event/schedule-update-now-open-on-tuesdays-to-the-public/
LOCATION:FL
ATTACH;FMTTYPE=image/png:https://gulfcoastclays.com/wp-content/uploads/2024/12/January-hours-1.png
END:VEVENT
BEGIN:VEVENT
DTSTART;TZID=America/New_York:20250110T183000
DTEND;TZID=America/New_York:20250110T210000
DTSTAMP:20260421T012507
CREATED:20241207T201807Z
LAST-MODIFIED:20241207T204543Z
UID:5637-1736533800-1736542800@gulfcoastclays.com
SUMMARY:January BlackOut 5-stand
DESCRIPTION:Have you ever wondered what it would be like to shoot clays in the dark? Well\, now is the time to find out! Join us for our January BlackOut 5 stand shoot – 2 rounds of 5-stand (50 targets). Entry fee is $50\, $10 of which will go towards the cash prize. There are rotations of 10 spots each\, start times are 6:30PM\, 7:10PM\, and 7:50PM. Reservations required\, limited spots available; please sign up on Score Chaser\, shoot us an email at katya@gulfcoastclays.com or call the clubhouse at 239-642-8999 to sign up! \nJoin us for both January Steak Night and BlackOut 5 stand for a day full of shooting and fun! Find out more about the Steak Night here.
URL:https://gulfcoastclays.com/event/january-blackout-5-stand/
LOCATION:FL
ATTACH;FMTTYPE=image/png:https://gulfcoastclays.com/wp-content/uploads/2024/12/Blackoout-5-stand-2.png
END:VEVENT
BEGIN:VEVENT
DTSTART;TZID=America/New_York:20250110T143000
DTEND;TZID=America/New_York:20250110T200000
DTSTAMP:20260421T012507
CREATED:20241205T145854Z
LAST-MODIFIED:20241207T202232Z
UID:5624-1736519400-1736539200@gulfcoastclays.com
SUMMARY:January Steak Night
DESCRIPTION:Join us for a fun-filled evening of target shooting and delicious dining at our Steak Night Event! Here’s what you can look forward to: \n\n100 Sporting Clays Targets\nGolf Cart Rental\nSteak Dinner (cooked just the way you like it!)\n\nAll for only $80 per person. \nEvent Schedule: \n\nShooting Starts: 2:30 PM\nMust Be on the Course by: 4:00 PM\nDinner Served: Immediately after shooting\n\nGuests Are Welcome!\nYou’re invited to bring a friend along. Non-shooting guests can join you for a delicious steak dinner for just $35. \nReservations and a $20 refundable deposit required\, please reserve by emailing Katya at katya@gulfcoastclays.com or calling the club at 239-642-8999. \n  \nJoin us for both the Steak Night and January BlackOut 5 stand for a full day of shooting and fun! Find out more about the BlackOut 5 stand here.
URL:https://gulfcoastclays.com/event/steak-night-2/
LOCATION:FL
ATTACH;FMTTYPE=image/png:https://gulfcoastclays.com/wp-content/uploads/2024/11/GCC-Steak-Night-9th.png
END:VEVENT
BEGIN:VEVENT
DTSTART;TZID=America/New_York:20250105T093000
DTEND;TZID=America/New_York:20250105T133000
DTSTAMP:20260421T012507
CREATED:20241108T203154Z
LAST-MODIFIED:20241108T203154Z
UID:5512-1736069400-1736083800@gulfcoastclays.com
SUMMARY:January ATA tournament
DESCRIPTION:We will be offering 100 targets Singles\, Handicap\, and Doubles at $40 per event plus daily fees ($7). Please CALL US at 239-642-8999 to PRE-REGISTER.  It is possible to shoot without pre-registration\, but due to the limited number of fields you may end up having to wait over an hour.  Shooting starts at 9:30 am. Lunch is available from 11:30 am to 1:30 pm.
URL:https://gulfcoastclays.com/event/january-ata-tournament/
LOCATION:Gulf Coast Clays\, 12425 Union Rd\, Naples\, FL\, 34114\, United States
CATEGORIES:ATA tournament
ATTACH;FMTTYPE=image/jpeg:https://gulfcoastclays.com/wp-content/uploads/2024/09/clay-shooting-trap.jpg
END:VEVENT
BEGIN:VEVENT
DTSTART;TZID=America/New_York:20250104T040000
DTEND;TZID=America/New_York:20250104T083000
DTSTAMP:20260421T012507
CREATED:20171128T172124Z
LAST-MODIFIED:20241205T144742Z
UID:4656-1735963200-1735979400@gulfcoastclays.com
SUMMARY:New Year Opener NSCA Shoot
DESCRIPTION:The Sporting clays course will be closed to the pubic for the duration of the shoot. Details: \nShooting starts at 9AM\, the latest you may get on the course is 10:30AM. All scorecards must be turned in by 1:30PM. \nThe course will be Modified European rotation\, which means you may start at any stations but you may not skip or jump stations – you have to shoot in order. There are trappers on the stations. \nGolf carts are available on a first-come basis for $30. Please email Katya at katya@gulfcoastclays.com or call us at 239-642-8999 to reserve a cart. Carts must be paid in advance to reserve. Reservations canceled up to the day prior of the event will be refunded. \nEntry fees – $90 –  include lunch\, target fees and sales tax. \nPlease keep in mind the course will not be available to those shooting the event the day before.
URL:https://gulfcoastclays.com/event/new-year-opener-nsca-shoot/
LOCATION:Gulf Coast Clays\, 12425 Union Rd\, Naples\, FL\, 34114\, United States
CATEGORIES:NSCA tournament
ATTACH;FMTTYPE=image/jpeg:https://gulfcoastclays.com/wp-content/uploads/2024/09/about-instruction-botom-gallery-2.jpg
END:VEVENT
BEGIN:VEVENT
DTSTART;TZID=America/New_York:20241224T190000
DTEND;TZID=America/New_York:20241225T185900
DTSTAMP:20260421T012507
CREATED:20171129T180936Z
LAST-MODIFIED:20241207T202504Z
UID:378-1735066800-1735153140@gulfcoastclays.com
SUMMARY:Schedule Update - Club Closed for Christmas
DESCRIPTION:The club will be closed all day for Christmas. We will reopen on Friday\, December 27th. Happy Holidays!
URL:https://gulfcoastclays.com/event/schedule-update-1/
LOCATION:FL
ATTACH;FMTTYPE=image/png:https://gulfcoastclays.com/wp-content/uploads/2017/11/Beige-and-Red-Minimalist-Closed-For-Christmas-Poster.png
END:VEVENT
BEGIN:VEVENT
DTSTART;TZID=America/New_York:20241221T040000
DTEND;TZID=America/New_York:20241221T083000
DTSTAMP:20260421T012507
CREATED:20171129T182400Z
LAST-MODIFIED:20241205T144833Z
UID:384-1734753600-1734769800@gulfcoastclays.com
SUMMARY:Jingle Bells NSCA Shoot
DESCRIPTION:The Sporting clays course will be closed to the pubic for the duration of the shoot. Details: \nShooting starts at 9AM\, the latest you may get on the course is 10:30AM. All scorecards must be turned in by 1:30PM. \nThe course will be Modified European rotation\, which means you may start at any stations but you may not skip or jump stations – you have to shoot in order. There are trappers on the stations. \nGolf carts are available on a first-come basis for $30. Please email Katya at katya@gulfcoastclays.com or call us at 239-642-8999 to reserve a cart. Carts must be paid in advance to reserve. Reservations canceled up to the day prior of the event will be refunded. \nEntry fees – $90 –  include lunch\, target fees and sales tax. \nPlease keep in mind the course will not be available to those shooting the event the day before.
URL:https://gulfcoastclays.com/event/jingle-bells-nsca-shoot/
LOCATION:Gulf Coast Clays\, 12425 Union Rd\, Naples\, FL\, 34114\, United States
CATEGORIES:NSCA tournament
ATTACH;FMTTYPE=image/jpeg:https://gulfcoastclays.com/wp-content/uploads/2017/11/53043074_1903579233103528_3296683507610288128_n.jpg
END:VEVENT
BEGIN:VEVENT
DTSTART;TZID=America/New_York:20241213T143000
DTEND;TZID=America/New_York:20241213T200000
DTSTAMP:20260421T012507
CREATED:20241113T191847Z
LAST-MODIFIED:20241113T195241Z
UID:5569-1734100200-1734120000@gulfcoastclays.com
SUMMARY:Steak Night
DESCRIPTION:Join us for a fun-filled evening of target shooting and delicious dining at our Steak Night Event! Here’s what you can look forward to: \n\n100 Sporting Clays Targets\nGolf Cart Rental\nSteak Dinner (cooked just the way you like it!)\n\nAll for only $80 per person. \nEvent Schedule: \n\nShooting Starts: 2:30 PM\nMust Be on the Course by: 4:00 PM\nDinner Served: Immediately after shooting\n\nGuests Are Welcome!\nYou’re invited to bring a friend along. Non-shooting guests can join you for a delicious steak dinner for just $35. \nReservations and a $20 refundable deposit required\, please reserve by emailing Katya at katya@gulfcoastclays.com or calling the club at 239-642-8999. \n 
URL:https://gulfcoastclays.com/event/steak-night/
LOCATION:FL
ATTACH;FMTTYPE=image/png:https://gulfcoastclays.com/wp-content/uploads/2024/11/GCC-Steak-Night-9th.png
END:VEVENT
BEGIN:VEVENT
DTSTART;TZID=America/New_York:20241207T183000
DTEND;TZID=America/New_York:20241207T210000
DTSTAMP:20260421T012507
CREATED:20241124T193552Z
LAST-MODIFIED:20241207T204523Z
UID:5582-1733596200-1733605200@gulfcoastclays.com
SUMMARY:December BlackOut 5-stand
DESCRIPTION:Have you ever wondered what it would be like to shoot clays in the dark? Well\, now is the time to find out! On Saturday\, December 7th\,\, we will hold our second BlackOut 5 stand shoot – 2 rounds of 5-stand (50 targets). Entry fee is $50\, $10 of which will go towards the cash prize. Start time – 6:30PM. Reservations required\, limited spots available; please sign up on Score Chaser\, shoot us an email at katya@gulfcoastclays.com or call the clubhouse at 239-642-8999 to sign up!
URL:https://gulfcoastclays.com/event/december-blackout-5-stand/
LOCATION:FL
ATTACH;FMTTYPE=image/png:https://gulfcoastclays.com/wp-content/uploads/2024/11/Blackoout-5-stand-1.png
END:VEVENT
BEGIN:VEVENT
DTSTART;TZID=America/New_York:20241207T040000
DTEND;TZID=America/New_York:20241207T073000
DTSTAMP:20260421T012507
CREATED:20171129T182652Z
LAST-MODIFIED:20241205T144901Z
UID:388-1733544000-1733556600@gulfcoastclays.com
SUMMARY:Rotary Club of Naples North fundraiser
DESCRIPTION:A long-standing annual fundraiser event for Rotary Club of Naples North. The sporting clays course will be closed to the public in the morning.
URL:https://gulfcoastclays.com/event/rotary-club-of-naples-north-fundraiser/
LOCATION:Gulf Coast Clays\, 12425 Union Rd\, Naples\, FL\, 34114\, United States
CATEGORIES:Fundraiser
ATTACH;FMTTYPE=image/jpeg:https://gulfcoastclays.com/wp-content/uploads/2024/09/corporate-and-private-events-bottom-possible-gallery-3.jpeg
END:VEVENT
BEGIN:VEVENT
DTSTART;TZID=America/New_York:20241201T043000
DTEND;TZID=America/New_York:20241201T083000
DTSTAMP:20260421T012507
CREATED:20171129T182855Z
LAST-MODIFIED:20241205T004739Z
UID:391-1733027400-1733041800@gulfcoastclays.com
SUMMARY:December ATA tournament
DESCRIPTION:We will be offering 100 targets Singles\, Handicap\, and Doubles at $40 per event plus daily fees ($7). Please CALL US at 239-642-8999 to PRE-REGISTER.  It is possible to shoot without pre-registration\, but due to the limited number of fields you may end up having to wait over an hour.  Shooting starts at 9:30 am. Lunch is available from 11:30 am to 1:30 pm.
URL:https://gulfcoastclays.com/event/december-ata-tournament/
LOCATION:Gulf Coast Clays\, 12425 Union Rd\, Naples\, FL\, 34114\, United States
CATEGORIES:ATA tournament
ATTACH;FMTTYPE=image/jpeg:https://gulfcoastclays.com/wp-content/uploads/2024/09/home-bottom-gallery-3.jpg
END:VEVENT
BEGIN:VEVENT
DTSTART;TZID=America/New_York:20241122T183000
DTEND;TZID=America/New_York:20241122T203000
DTSTAMP:20260421T012507
CREATED:20241113T170414Z
LAST-MODIFIED:20241113T170414Z
UID:5565-1732300200-1732307400@gulfcoastclays.com
SUMMARY:BlackOut 5-stand
DESCRIPTION:Have you ever though what it would be like to shoot clays in the dark? Well\, now is the time to find out! On Friday\, November 22nd\, we will hold our first BlackOut 5 stand shoot – 2 rounds of 5-stand (50 targets). Entry fee is $40\, $10 of which will go towards the cash prize. Start time – 6:30PM. Reservations required\, limited spots available; please shoot us an email at katya@gulfcoastclays.com or call the clubhouse at 239-642-8999 to sign up!
URL:https://gulfcoastclays.com/event/blackout-5-stand/
LOCATION:FL
ATTACH;FMTTYPE=image/png:https://gulfcoastclays.com/wp-content/uploads/2024/11/1.png
END:VEVENT
BEGIN:VEVENT
DTSTART;TZID=America/New_York:20241116T040000
DTEND;TZID=America/New_York:20241116T073000
DTSTAMP:20260421T012507
CREATED:20171129T181019Z
LAST-MODIFIED:20241205T004751Z
UID:380-1731729600-1731742200@gulfcoastclays.com
SUMMARY:Gulf Coast High School Lacrosse Shoot
DESCRIPTION:A 50-target sporting clays tournament for Gulf Coast High School Lacrosse team. The sporting clays course will be closed to the public in the morning. Please reach out to Teria at teria.clark@yahoo.com if you’d like to participate.
URL:https://gulfcoastclays.com/event/gchs-lacrosse-shoot/
LOCATION:Gulf Coast Clays\, 12425 Union Rd\, Naples\, FL\, 34114\, United States
CATEGORIES:Fundraiser
ATTACH;FMTTYPE=image/png:https://gulfcoastclays.com/wp-content/uploads/2017/11/GC-removebg-preview.png
END:VEVENT
BEGIN:VEVENT
DTSTART;TZID=America/New_York:20241110T040000
DTEND;TZID=America/New_York:20241110T083000
DTSTAMP:20260421T012507
CREATED:20171129T183058Z
LAST-MODIFIED:20241205T004758Z
UID:394-1731211200-1731227400@gulfcoastclays.com
SUMMARY:Turkey Trot NSCA Shoot
DESCRIPTION:The Sporting clays course will be closed to the pubic for the duration of the shoot. Details: \nShooting starts at 9AM\, the latest you may get on the course is 10:30AM. All scorecards must be turned in by 1:30PM. \nThe course will be Modified European rotation\, which means you may start at any stations but you may not skip or jump stations – you have to shoot in order. There are trappers on the stations. \nGolf carts are available on a first-come basis for $30. Please email Katya at katya@gulfcoastclays.com or call us at 239-642-8999 to reserve a cart. Carts must be paid in advance to reserve. Reservations canceled up to the day prior of the event will be refunded. \nEntry fees – $90 –  include lunch\, target fees and sales tax. \nPlease keep in mind the course will not be available to those shooting the event the day before.
URL:https://gulfcoastclays.com/event/turkey-trot-nsca-shoot/
LOCATION:Gulf Coast Clays\, 12425 Union Rd\, Naples\, FL\, 34114\, United States
CATEGORIES:NSCA tournament
ATTACH;FMTTYPE=image/jpeg:https://gulfcoastclays.com/wp-content/uploads/2017/11/53792586_1921341094660675_6874657372762013696_n.jpg
END:VEVENT
END:VCALENDAR