BEGIN:VCALENDAR
VERSION:2.0
PRODID:-//Gulf Coast Clays - ECPv6.5.1.3//NONSGML v1.0//EN
CALSCALE:GREGORIAN
METHOD:PUBLISH
X-WR-CALNAME:Gulf Coast Clays
X-ORIGINAL-URL:https://gulfcoastclays.com
X-WR-CALDESC:Events for Gulf Coast Clays
REFRESH-INTERVAL;VALUE=DURATION:PT1H
X-Robots-Tag:noindex
X-PUBLISHED-TTL:PT1H
BEGIN:VTIMEZONE
TZID:America/New_York
BEGIN:DAYLIGHT
TZOFFSETFROM:-0500
TZOFFSETTO:-0400
TZNAME:EDT
DTSTART:20260308T070000
END:DAYLIGHT
BEGIN:STANDARD
TZOFFSETFROM:-0400
TZOFFSETTO:-0500
TZNAME:EST
DTSTART:20261101T060000
END:STANDARD
END:VTIMEZONE
BEGIN:VEVENT
DTSTART;VALUE=DATE:20260112
DTEND;VALUE=DATE:20260114
DTSTAMP:20260421T053944
CREATED:20251226T171825Z
LAST-MODIFIED:20251226T171825Z
UID:6003-1768244400-1768330799@gulfcoastclays.com
SUMMARY:Schedule Update - Now Open On Tuesdays to the public
DESCRIPTION:From today and until the end of March\, the club is open to the public on Tuesdays\, from 9AM to 4PM. The last call for the sporting clays course is 2:30PM.
URL:https://gulfcoastclays.com/event/schedule-update-now-open-on-tuesdays-to-the-public-2026/
CATEGORIES:schedule updates
ATTACH;FMTTYPE=image/png:https://gulfcoastclays.com/wp-content/uploads/2024/12/January-hours-1.png
END:VEVENT
END:VCALENDAR