BEGIN:VCALENDAR
VERSION:2.0
PRODID:-//Gulf Coast Clays - ECPv6.5.1.3//NONSGML v1.0//EN
CALSCALE:GREGORIAN
METHOD:PUBLISH
X-ORIGINAL-URL:https://gulfcoastclays.com
X-WR-CALDESC:Events for Gulf Coast Clays
REFRESH-INTERVAL;VALUE=DURATION:PT1H
X-Robots-Tag:noindex
X-PUBLISHED-TTL:PT1H
BEGIN:VTIMEZONE
TZID:America/New_York
BEGIN:DAYLIGHT
TZOFFSETFROM:-0500
TZOFFSETTO:-0400
TZNAME:EDT
DTSTART:20250309T070000
END:DAYLIGHT
BEGIN:STANDARD
TZOFFSETFROM:-0400
TZOFFSETTO:-0500
TZNAME:EST
DTSTART:20251102T060000
END:STANDARD
END:VTIMEZONE
BEGIN:VEVENT
DTSTART;TZID=America/New_York:20250223T043000
DTEND;TZID=America/New_York:20250223T083000
DTSTAMP:20260425T235812
CREATED:20250114T145138Z
LAST-MODIFIED:20250131T150036Z
UID:5743-1740285000-1740299400@gulfcoastclays.com
SUMMARY:No Name NSCA Shoot
DESCRIPTION:The Sporting clays course will be closed to the pubic for the duration of the shoot. Details: \nThe shoot is pre-squadded\, shooting starts at 9:30AM. All scorecards must be turned in by 1:30PM. We have trappers on the stations. Maximum amount of people allowed on a squad are 5. Please include your squadding requests when registering to ensure you get squadded with people you prefer to shoot with. \nGolf carts are available on a first-come basis for $35. Please email Katya at katya@gulfcoastclays.com or call us at 239-642-8999 to reserve a cart. Carts must be paid in advance to reserve. Reservations canceled up to the day prior of the event will be refunded. \nHOA\, RU and at least the top shooter in each class gets a target payout. \nEntry fees include lunch\, target fees and sales tax. Please keep in mind the course will not be available to those shooting the event the day before.
URL:https://gulfcoastclays.com/event/no-name-nsca-shoot/
LOCATION:Gulf Coast Clays\, 12425 Union Rd\, Naples\, FL\, 34114\, United States
CATEGORIES:NSCA tournament
ATTACH;FMTTYPE=image/jpeg:https://gulfcoastclays.com/wp-content/uploads/2024/09/about-instruction-botom-gallery-2.jpg
END:VEVENT
END:VCALENDAR