BEGIN:VCALENDAR
VERSION:2.0
PRODID:-//Gulf Coast Clays - ECPv6.5.1.3//NONSGML v1.0//EN
CALSCALE:GREGORIAN
METHOD:PUBLISH
X-WR-CALNAME:Gulf Coast Clays
X-ORIGINAL-URL:https://gulfcoastclays.com
X-WR-CALDESC:Events for Gulf Coast Clays
REFRESH-INTERVAL;VALUE=DURATION:PT1H
X-Robots-Tag:noindex
X-PUBLISHED-TTL:PT1H
BEGIN:VTIMEZONE
TZID:America/New_York
BEGIN:DAYLIGHT
TZOFFSETFROM:-0500
TZOFFSETTO:-0400
TZNAME:EDT
DTSTART:20250309T070000
END:DAYLIGHT
BEGIN:STANDARD
TZOFFSETFROM:-0400
TZOFFSETTO:-0500
TZNAME:EST
DTSTART:20251102T060000
END:STANDARD
END:VTIMEZONE
BEGIN:VEVENT
DTSTART;TZID=America/New_York:20250125T040000
DTEND;TZID=America/New_York:20250125T073000
DTSTAMP:20260424T011817
CREATED:20241227T150344Z
LAST-MODIFIED:20241227T150344Z
UID:5660-1737777600-1737790200@gulfcoastclays.com
SUMMARY:Bill Rose Memorial Shoot
DESCRIPTION:An annual fundraiser for Marco Island Academy\, in memory of Bill Rose. The sporting clays course will be closed to the public in the morning.
URL:https://gulfcoastclays.com/event/bill-rose-memorial-shoot/
LOCATION:Gulf Coast Clays\, 12425 Union Rd\, Naples\, FL\, 34114\, United States
CATEGORIES:Fundraiser
ATTACH;FMTTYPE=image/jpeg:https://gulfcoastclays.com/wp-content/uploads/2024/09/about-instruction-description.jpg
END:VEVENT
END:VCALENDAR