BEGIN:VCALENDAR
VERSION:2.0
PRODID:-//Gulf Coast Clays - ECPv6.5.1.3//NONSGML v1.0//EN
CALSCALE:GREGORIAN
METHOD:PUBLISH
X-ORIGINAL-URL:https://gulfcoastclays.com
X-WR-CALDESC:Events for Gulf Coast Clays
REFRESH-INTERVAL;VALUE=DURATION:PT1H
X-Robots-Tag:noindex
X-PUBLISHED-TTL:PT1H
BEGIN:VTIMEZONE
TZID:America/New_York
BEGIN:DAYLIGHT
TZOFFSETFROM:-0500
TZOFFSETTO:-0400
TZNAME:EDT
DTSTART:20260308T070000
END:DAYLIGHT
BEGIN:STANDARD
TZOFFSETFROM:-0400
TZOFFSETTO:-0500
TZNAME:EST
DTSTART:20261101T060000
END:STANDARD
END:VTIMEZONE
BEGIN:VEVENT
DTSTART;TZID=America/New_York:20260314T073000
DTEND;TZID=America/New_York:20260314T130000
DTSTAMP:20260421T003542
CREATED:20260120T143641Z
LAST-MODIFIED:20260206T160602Z
UID:6041-1773473400-1773493200@gulfcoastclays.com
SUMMARY:18th Annual Shoot Down Kids Cancer Event
DESCRIPTION:A fundraiser that has become a tradition here at Gulf Coast Clays – the 18th Annual Shoot Down Kids Cancer tournament\, benefitting American Cancer Society and pediatric cancer research. Please reach out to shootdownkidscancer01@gmail.com for more information. \nThe sporting clays course will be closed to the public in the morning\, and should reopen by 1PM. Trap\, Skeet\, and 5-stand will be open as usual.
URL:https://gulfcoastclays.com/event/shoot-down-kids-cancer-event-2026/
LOCATION:Gulf Coast Clays\, 12425 Union Rd\, Naples\, FL\, 34114\, United States
CATEGORIES:Fundraiser
ATTACH;FMTTYPE=image/png:https://gulfcoastclays.com/wp-content/uploads/2026/01/Red-Pizza-Party-Fundraiser-Flyer-4.png
END:VEVENT
END:VCALENDAR