BEGIN:VCALENDAR
VERSION:2.0
PRODID:-//Gulf Coast Clays - ECPv6.5.1.3//NONSGML v1.0//EN
CALSCALE:GREGORIAN
METHOD:PUBLISH
X-WR-CALNAME:Gulf Coast Clays
X-ORIGINAL-URL:https://gulfcoastclays.com
X-WR-CALDESC:Events for Gulf Coast Clays
REFRESH-INTERVAL;VALUE=DURATION:PT1H
X-Robots-Tag:noindex
X-PUBLISHED-TTL:PT1H
BEGIN:VTIMEZONE
TZID:America/New_York
BEGIN:DAYLIGHT
TZOFFSETFROM:-0500
TZOFFSETTO:-0400
TZNAME:EDT
DTSTART:20240310T070000
END:DAYLIGHT
BEGIN:STANDARD
TZOFFSETFROM:-0400
TZOFFSETTO:-0500
TZNAME:EST
DTSTART:20241103T060000
END:STANDARD
END:VTIMEZONE
BEGIN:VEVENT
DTSTART;TZID=America/New_York:20241207T040000
DTEND;TZID=America/New_York:20241207T073000
DTSTAMP:20260424T011724
CREATED:20171129T182652Z
LAST-MODIFIED:20241205T144901Z
UID:388-1733544000-1733556600@gulfcoastclays.com
SUMMARY:Rotary Club of Naples North fundraiser
DESCRIPTION:A long-standing annual fundraiser event for Rotary Club of Naples North. The sporting clays course will be closed to the public in the morning.
URL:https://gulfcoastclays.com/event/rotary-club-of-naples-north-fundraiser/
LOCATION:Gulf Coast Clays\, 12425 Union Rd\, Naples\, FL\, 34114\, United States
CATEGORIES:Fundraiser
ATTACH;FMTTYPE=image/jpeg:https://gulfcoastclays.com/wp-content/uploads/2024/09/corporate-and-private-events-bottom-possible-gallery-3.jpeg
END:VEVENT
END:VCALENDAR