BEGIN:VCALENDAR
VERSION:2.0
PRODID:-//Gulf Coast Clays - ECPv6.5.1.3//NONSGML v1.0//EN
CALSCALE:GREGORIAN
METHOD:PUBLISH
X-ORIGINAL-URL:https://gulfcoastclays.com
X-WR-CALDESC:Events for Gulf Coast Clays
REFRESH-INTERVAL;VALUE=DURATION:PT1H
X-Robots-Tag:noindex
X-PUBLISHED-TTL:PT1H
BEGIN:VTIMEZONE
TZID:America/New_York
BEGIN:DAYLIGHT
TZOFFSETFROM:-0500
TZOFFSETTO:-0400
TZNAME:EDT
DTSTART:20260308T070000
END:DAYLIGHT
BEGIN:STANDARD
TZOFFSETFROM:-0400
TZOFFSETTO:-0500
TZNAME:EST
DTSTART:20261101T060000
END:STANDARD
END:VTIMEZONE
BEGIN:VEVENT
DTSTART;TZID=America/New_York:20260301T093000
DTEND;TZID=America/New_York:20260301T133000
DTSTAMP:20260420T182323
CREATED:20260120T142605Z
LAST-MODIFIED:20260120T142605Z
UID:6033-1772357400-1772371800@gulfcoastclays.com
SUMMARY:March ATA tournament
DESCRIPTION:We will be offering 100 targets Singles\, Handicap\, and Doubles at $42 per event plus daily fees ($7). The shooting starts with Singles at 9:30AM\, followed by Handicap and Doubles. \n Registration begins at 8:30AM\, squads will be filled on a “first come\, first shoot” basis. The last singles squad goes out at 10:45AM. \nLunch is available from 11:30 am to 1:30 pm.
URL:https://gulfcoastclays.com/event/march-ata-tournament-2026/
LOCATION:Gulf Coast Clays\, 12425 Union Rd\, Naples\, FL\, 34114\, United States
CATEGORIES:ATA tournament
ATTACH;FMTTYPE=image/jpeg:https://gulfcoastclays.com/wp-content/uploads/2017/12/Tournaments-ata-subpage-1.jpg
END:VEVENT
END:VCALENDAR