BEGIN:VCALENDAR
VERSION:2.0
PRODID:-//Gulf Coast Clays - ECPv6.5.1.3//NONSGML v1.0//EN
CALSCALE:GREGORIAN
METHOD:PUBLISH
X-WR-CALNAME:Gulf Coast Clays
X-ORIGINAL-URL:https://gulfcoastclays.com
X-WR-CALDESC:Events for Gulf Coast Clays
REFRESH-INTERVAL;VALUE=DURATION:PT1H
X-Robots-Tag:noindex
X-PUBLISHED-TTL:PT1H
BEGIN:VTIMEZONE
TZID:America/New_York
BEGIN:DAYLIGHT
TZOFFSETFROM:-0500
TZOFFSETTO:-0400
TZNAME:EDT
DTSTART:20250309T070000
END:DAYLIGHT
BEGIN:STANDARD
TZOFFSETFROM:-0400
TZOFFSETTO:-0500
TZNAME:EST
DTSTART:20251102T060000
END:STANDARD
END:VTIMEZONE
BEGIN:VEVENT
DTSTART;TZID=America/New_York:20251226T184500
DTEND;TZID=America/New_York:20251226T220000
DTSTAMP:20260420T184404
CREATED:20251130T163211Z
LAST-MODIFIED:20251130T163211Z
UID:5990-1766774700-1766786400@gulfcoastclays.com
SUMMARY:Merry&Bright BlackOut 5-stand
DESCRIPTION:BlackOut 5-Stand is back at Gulf Coast Clays – join us for an exciting evening of night shooting! \nEvent Details:Format: 5-Stand – 2 Rounds (50 Targets)Entry Fee: $50Start Times: 6:45PM\, 7:45 PM\, 8:45PM \nShooting Order:Each rotation will include an A Squad and B Squad: \n\n\nA Squad shoots Round 1 (25 targets) \n\n\nB Squad shoots Round 1 \n\n\nA Squad shoots Round 2 \n\n\nB Squad shoots Round 2Once both squads complete their rounds\, the next rotation begins. \n\n\nPrizes:Guaranteed cash prizes for 1st\, 2nd\, and 3rd place. Prize amounts will be determined based on the number of participants. \nSpots are limited and reservations are required.To sign up\, please visit Score Chaser\, email us at katya@gulfcoastclays.com\, or call the clubhouse at (239) 642-8999. \nPlease note: if you have never shot 5-stand\, we encourage you to learn how 5-stand works in the daylight prior to participating in the BlackOut.
URL:https://gulfcoastclays.com/event/merry-bright-blackout-5-stand/
LOCATION:Gulf Coast Clays\, 12425 Union Rd\, Naples\, FL\, 34114\, United States
CATEGORIES:BlackOut 5 stand
ATTACH;FMTTYPE=image/png:https://gulfcoastclays.com/wp-content/uploads/2025/11/Blackout-5-stand-11.png
END:VEVENT
END:VCALENDAR