BEGIN:VCALENDAR
VERSION:2.0
PRODID:-//Gulf Coast Clays - ECPv6.5.1.3//NONSGML v1.0//EN
CALSCALE:GREGORIAN
METHOD:PUBLISH
X-WR-CALNAME:Gulf Coast Clays
X-ORIGINAL-URL:https://gulfcoastclays.com
X-WR-CALDESC:Events for Gulf Coast Clays
REFRESH-INTERVAL;VALUE=DURATION:PT1H
X-Robots-Tag:noindex
X-PUBLISHED-TTL:PT1H
BEGIN:VTIMEZONE
TZID:America/New_York
BEGIN:DAYLIGHT
TZOFFSETFROM:-0500
TZOFFSETTO:-0400
TZNAME:EDT
DTSTART:20250309T070000
END:DAYLIGHT
BEGIN:STANDARD
TZOFFSETFROM:-0400
TZOFFSETTO:-0500
TZNAME:EST
DTSTART:20251102T060000
END:STANDARD
END:VTIMEZONE
BEGIN:VEVENT
DTSTART;VALUE=DATE:20251223
DTEND;VALUE=DATE:20251226
DTSTAMP:20260420T200716
CREATED:20251126T190803Z
LAST-MODIFIED:20251126T191055Z
UID:5979-1766516400-1766689199@gulfcoastclays.com
SUMMARY:Christmas Week Schedule Update
DESCRIPTION:The club will be closed on Wednesday\, December 24th and Thursday\, December 25th (Christmas Eve and Day). We will reopen on Friday\, December 26th\, with regular hours.
URL:https://gulfcoastclays.com/event/christmas-week-schedule-update/
LOCATION:FL
ATTACH;FMTTYPE=image/png:https://gulfcoastclays.com/wp-content/uploads/2025/11/Black-and-Red-Minimalist-Christmas-Schedule-Instagram-Post-1.png
END:VEVENT
END:VCALENDAR