BEGIN:VCALENDAR
VERSION:2.0
PRODID:-//Gulf Coast Clays - ECPv6.5.1.3//NONSGML v1.0//EN
CALSCALE:GREGORIAN
METHOD:PUBLISH
X-ORIGINAL-URL:https://gulfcoastclays.com
X-WR-CALDESC:Events for Gulf Coast Clays
REFRESH-INTERVAL;VALUE=DURATION:PT1H
X-Robots-Tag:noindex
X-PUBLISHED-TTL:PT1H
BEGIN:VTIMEZONE
TZID:America/New_York
BEGIN:DAYLIGHT
TZOFFSETFROM:-0500
TZOFFSETTO:-0400
TZNAME:EDT
DTSTART:20250309T070000
END:DAYLIGHT
BEGIN:STANDARD
TZOFFSETFROM:-0400
TZOFFSETTO:-0500
TZNAME:EST
DTSTART:20251102T060000
END:STANDARD
END:VTIMEZONE
BEGIN:VEVENT
DTSTART;TZID=America/New_York:20251220T040000
DTEND;TZID=America/New_York:20251220T083000
DTSTAMP:20260420T184726
CREATED:20250919T151509Z
LAST-MODIFIED:20251114T184722Z
UID:5924-1766203200-1766219400@gulfcoastclays.com
SUMMARY:Jingle Bells NSCA Shoot
DESCRIPTION:The Sporting clays course will be closed to the pubic for the duration of the shoot. Details: \nThe shoot is pre-squadded\, shooting starts at 9:30AM. All scorecards must be turned in by 1:30PM. We have trappers on the stations. Maximum amount of people allowed on a squad are 5. Please include your squadding requests when registering to ensure you get squadded with people you prefer to shoot with. \nGolf carts are available on a first-come basis for $35. Reservations canceled up to the day prior of the event will be refunded. \n\nHOA\, RU\, and at least the top shooter in each class gets a target payout. \nEntry fees include lunch\, target fees and sales tax. Please keep in mind the course will not be available to those shooting the event the day before.
URL:https://gulfcoastclays.com/event/jingle-bells-nsca-shoot-2025/
LOCATION:Gulf Coast Clays\, 12425 Union Rd\, Naples\, FL\, 34114\, United States
CATEGORIES:NSCA tournament
ATTACH;FMTTYPE=image/jpeg:https://gulfcoastclays.com/wp-content/uploads/2017/11/53043074_1903579233103528_3296683507610288128_n.jpg
END:VEVENT
END:VCALENDAR