BEGIN:VCALENDAR
VERSION:2.0
PRODID:-//Gulf Coast Clays - ECPv6.5.1.3//NONSGML v1.0//EN
CALSCALE:GREGORIAN
METHOD:PUBLISH
X-ORIGINAL-URL:https://gulfcoastclays.com
X-WR-CALDESC:Events for Gulf Coast Clays
REFRESH-INTERVAL;VALUE=DURATION:PT1H
X-Robots-Tag:noindex
X-PUBLISHED-TTL:PT1H
BEGIN:VTIMEZONE
TZID:America/New_York
BEGIN:DAYLIGHT
TZOFFSETFROM:-0500
TZOFFSETTO:-0400
TZNAME:EDT
DTSTART:20250309T070000
END:DAYLIGHT
BEGIN:STANDARD
TZOFFSETFROM:-0400
TZOFFSETTO:-0500
TZNAME:EST
DTSTART:20251102T060000
END:STANDARD
END:VTIMEZONE
BEGIN:VEVENT
DTSTART;TZID=America/New_York:20251213T143000
DTEND;TZID=America/New_York:20251213T180000
DTSTAMP:20260420T184727
CREATED:20251119T163932Z
LAST-MODIFIED:20251119T172843Z
UID:5966-1765636200-1765648800@gulfcoastclays.com
SUMMARY:December Steak Night
DESCRIPTION:Join us for a fun-filled evening of target shooting and delicious dining at our Steak Night Event! Here’s what you can look forward to: \n\n100 Sporting Clays Targets\nGolf Cart Rental\nSteak Dinner (cooked just the way you like it!)\n\nAll for only $85 per person. \nEvent Schedule: \n\nShooting Starts: 2:30 PM\nMust Be on the Course by: 4:00 PM\nDinner Served: 4:00PM to 6:00PM.\n\nGuests Are Welcome!\nYou’re invited to bring a friend along. Non-shooting guests can join you for a delicious steak dinner for just $35. \nReservations and a $20 refundable deposit required\, please reserve by emailing Katya at katya@gulfcoastclays.com or calling the club at 239-642-8999. \n  \nJoin us for both the Steak Night and the BlackOut 5 stand for a full day of shooting and fun! Find out more about the BlackOut 5 stand here.
URL:https://gulfcoastclays.com/event/december-steak-night/
LOCATION:Gulf Coast Clays\, 12425 Union Rd\, Naples\, FL\, 34114\, United States
CATEGORIES:Steak Night
ATTACH;FMTTYPE=image/png:https://gulfcoastclays.com/wp-content/uploads/2024/11/GCC-Steak-Night-9th.png
END:VEVENT
BEGIN:VEVENT
DTSTART;TZID=America/New_York:20251213T183000
DTEND;TZID=America/New_York:20251213T213000
DTSTAMP:20260420T184727
CREATED:20251119T172816Z
LAST-MODIFIED:20251130T162703Z
UID:5971-1765650600-1765661400@gulfcoastclays.com
SUMMARY:Glow Big or Glow Home December BlackOut 5-stand
DESCRIPTION:BlackOut 5-Stand is back at Gulf Coast Clays – join us for an exciting evening of night shooting! \nEvent Details:Format: 5-Stand – 2 Rounds (50 Targets)Entry Fee: $50Start Times: 6:30 PM\, 7:30 PM\, 8:30 PM \nShooting Order:Each rotation will include an A Squad and B Squad: \n\n\nA Squad shoots Round 1 (25 targets) \n\n\nB Squad shoots Round 1 \n\n\nA Squad shoots Round 2 \n\n\nB Squad shoots Round 2Once both squads complete their rounds\, the next rotation begins. \n\n\nPrizes:Guaranteed cash prizes for 1st\, 2nd\, and 3rd place. Prize amounts will be determined based on the number of participants. \nSpots are limited and reservations are required.To sign up\, please visit Score Chaser\, email us at katya@gulfcoastclays.com\, or call the clubhouse at (239) 642-8999. \nPlease note: if you have never shot 5-stand\, we encourage you to learn how 5-stand works in the daylight prior to participating in the BlackOut. \n\nJoin us for both the Steak Night and the BlackOut 5 stand for a full day of shooting and fun! Find out more about the Steak Night here.
URL:https://gulfcoastclays.com/event/glow-big-or-glow-home-december-blackout-5-stand/
LOCATION:Gulf Coast Clays\, 12425 Union Rd\, Naples\, FL\, 34114\, United States
CATEGORIES:BlackOut 5 stand
ATTACH;FMTTYPE=image/png:https://gulfcoastclays.com/wp-content/uploads/2025/11/Blackout-5-stand-8.png
END:VEVENT
END:VCALENDAR