BEGIN:VCALENDAR
VERSION:2.0
PRODID:-//Gulf Coast Clays - ECPv6.5.1.3//NONSGML v1.0//EN
CALSCALE:GREGORIAN
METHOD:PUBLISH
X-WR-CALNAME:Gulf Coast Clays
X-ORIGINAL-URL:https://gulfcoastclays.com
X-WR-CALDESC:Events for Gulf Coast Clays
REFRESH-INTERVAL;VALUE=DURATION:PT1H
X-Robots-Tag:noindex
X-PUBLISHED-TTL:PT1H
BEGIN:VTIMEZONE
TZID:America/New_York
BEGIN:DAYLIGHT
TZOFFSETFROM:-0500
TZOFFSETTO:-0400
TZNAME:EDT
DTSTART:20250309T070000
END:DAYLIGHT
BEGIN:STANDARD
TZOFFSETFROM:-0400
TZOFFSETTO:-0500
TZNAME:EST
DTSTART:20251102T060000
END:STANDARD
END:VTIMEZONE
BEGIN:VEVENT
DTSTART;VALUE=DATE:20250930
DTEND;VALUE=DATE:20251002
DTSTAMP:20260420T215147
CREATED:20250817T154508Z
LAST-MODIFIED:20250817T154508Z
UID:5908-1759262400-1759348799@gulfcoastclays.com
SUMMARY:Schedule Update - Winter Hours Start October 1st
DESCRIPTION:The hours are to be Wed\, Fri\, Sat\, and Sun\, 9AM – 4PM (instead of 2PM). The latest you’ll be able to get on the sporting clays course will be 2:30PM (instead of 12:30PM).
URL:https://gulfcoastclays.com/event/schedule-update-winter-hours-start-october-1/
LOCATION:FL
END:VEVENT
END:VCALENDAR