BEGIN:VCALENDAR
VERSION:2.0
PRODID:-//Gulf Coast Clays - ECPv6.5.1.3//NONSGML v1.0//EN
CALSCALE:GREGORIAN
METHOD:PUBLISH
X-ORIGINAL-URL:https://gulfcoastclays.com
X-WR-CALDESC:Events for Gulf Coast Clays
REFRESH-INTERVAL;VALUE=DURATION:PT1H
X-Robots-Tag:noindex
X-PUBLISHED-TTL:PT1H
BEGIN:VTIMEZONE
TZID:America/New_York
BEGIN:DAYLIGHT
TZOFFSETFROM:-0500
TZOFFSETTO:-0400
TZNAME:EDT
DTSTART:20250309T070000
END:DAYLIGHT
BEGIN:STANDARD
TZOFFSETFROM:-0400
TZOFFSETTO:-0500
TZNAME:EST
DTSTART:20251102T060000
END:STANDARD
END:VTIMEZONE
BEGIN:VEVENT
DTSTART;VALUE=DATE:20250909
DTEND;VALUE=DATE:20250915
DTSTAMP:20260420T233407
CREATED:20250817T154342Z
LAST-MODIFIED:20250817T154342Z
UID:5906-1757448000-1757879999@gulfcoastclays.com
SUMMARY:Schedule Update - Club Closed September 10-14
DESCRIPTION:The club will be closed from Wednesday\, September 10th\, through Sunday\, September 14th. We will resume normal hours on Wednesday\, September 17th.
URL:https://gulfcoastclays.com/event/schedule-update-club-closed-september-10-to-14/
LOCATION:FL
END:VEVENT
END:VCALENDAR