BEGIN:VCALENDAR
VERSION:2.0
PRODID:-//Gulf Coast Clays - ECPv6.5.1.3//NONSGML v1.0//EN
CALSCALE:GREGORIAN
METHOD:PUBLISH
X-ORIGINAL-URL:https://gulfcoastclays.com
X-WR-CALDESC:Events for Gulf Coast Clays
REFRESH-INTERVAL;VALUE=DURATION:PT1H
X-Robots-Tag:noindex
X-PUBLISHED-TTL:PT1H
BEGIN:VTIMEZONE
TZID:America/New_York
BEGIN:DAYLIGHT
TZOFFSETFROM:-0500
TZOFFSETTO:-0400
TZNAME:EDT
DTSTART:20250309T070000
END:DAYLIGHT
BEGIN:STANDARD
TZOFFSETFROM:-0400
TZOFFSETTO:-0500
TZNAME:EST
DTSTART:20251102T060000
END:STANDARD
END:VTIMEZONE
BEGIN:VEVENT
DTSTART;VALUE=DATE:20250531
DTEND;VALUE=DATE:20250602
DTSTAMP:20260421T041808
CREATED:20250521T153534Z
LAST-MODIFIED:20250521T153534Z
UID:5890-1748721600-1748807999@gulfcoastclays.com
SUMMARY:Schedule Update - Summer Hours Start June 1st
DESCRIPTION:The hours are to be Wed\, Fri\, Sat\, and Sun\, 9AM – 2PM (instead of 4PM). The latest you’ll be able to get on the sporting clays course will be 12:30PM (instead of 2:30PM).
URL:https://gulfcoastclays.com/event/schedule-update-summer-hours-start-june-1st/
LOCATION:FL
ATTACH;FMTTYPE=image/png:https://gulfcoastclays.com/wp-content/uploads/2025/05/Realty-Pro-2.png
END:VEVENT
BEGIN:VEVENT
DTSTART;VALUE=DATE:20250531
DTEND;VALUE=DATE:20250602
DTSTAMP:20260421T041808
CREATED:20250615T154147Z
LAST-MODIFIED:20250615T154147Z
UID:5896-1748721600-1748807999@gulfcoastclays.com
SUMMARY:Schedule Update - Club Closed All Day On July 4th
DESCRIPTION:The club will be closed all day on Friday\, July 4th\, in observance of the Independence Day. We will resume normal hours on Saturday\, July 5th.
URL:https://gulfcoastclays.com/event/schedule-update-club-closed-all-day-on-july-4th/
LOCATION:FL
END:VEVENT
END:VCALENDAR